BEGIN:VCALENDAR
VERSION:2.0
PRODID:-//Corporate Move Consulting Inc (CMCI) - ECPv6.15.20//NONSGML v1.0//EN
CALSCALE:GREGORIAN
METHOD:PUBLISH
X-WR-CALNAME:Corporate Move Consulting Inc (CMCI)
X-ORIGINAL-URL:https://cmcimove.com
X-WR-CALDESC:Events for Corporate Move Consulting Inc (CMCI)
REFRESH-INTERVAL;VALUE=DURATION:PT1H
X-Robots-Tag:noindex
X-PUBLISHED-TTL:PT1H
BEGIN:VTIMEZONE
TZID:UTC
BEGIN:STANDARD
TZOFFSETFROM:+0000
TZOFFSETTO:+0000
TZNAME:UTC
DTSTART:20210101T000000
END:STANDARD
END:VTIMEZONE
BEGIN:VEVENT
DTSTART;TZID=UTC:20220708T120000
DTEND;TZID=UTC:20220708T130000
DTSTAMP:20260422T114803
CREATED:20220620T181549Z
LAST-MODIFIED:20220620T181549Z
UID:2504-1657281600-1657285200@cmcimove.com
SUMMARY:AIA Houston: Gardening for Bees and Pollinators
DESCRIPTION:July 8\, 2022 \n12:00 pm – 1:00 pm \nLocation: \nArchitecture Center Houston\n902 Commerce St\nHouston\, TX 77002 \n  \nCost for no lunch: $10 for non-members and $5 for AIA and BBP Members \nCost with box lunch: $25 for non-members and $20 for AIA and BBP Members \n  \nRegister
URL:https://cmcimove.com/calendar/aia-houston-gardening-for-bees-and-pollinators/
LOCATION:Architecture Center Houston\, 902 Commerce Street\, Houston\, 77002\, United States
END:VEVENT
BEGIN:VEVENT
DTSTART;TZID=UTC:20220630T173000
DTEND;TZID=UTC:20220630T193000
DTSTAMP:20260422T114803
CREATED:20220518T222949Z
LAST-MODIFIED:20220518T223101Z
UID:2479-1656610200-1656617400@cmcimove.com
SUMMARY:AIA Houston: Urban Design 2022 Speaker Series: Action on Resiliency
DESCRIPTION:June 30\, 2022 \n5:30 pm -7:30 PM CST \nLocation: Architecture Center Houston \n  \nRegister
URL:https://cmcimove.com/calendar/aia-houston-urban-design-2022-speaker-series-action-on-resiliency/
LOCATION:Architecture Center Houston\, 902 Commerce Street\, Houston\, 77002\, United States
END:VEVENT
BEGIN:VEVENT
DTSTART;TZID=UTC:20220629T113000
DTEND;TZID=UTC:20220629T130000
DTSTAMP:20260422T114803
CREATED:20220518T222258Z
LAST-MODIFIED:20220518T222437Z
UID:2478-1656502200-1656507600@cmcimove.com
SUMMARY:AIA Houston: Texas Accessibility: Plumbing Elements and Facilities
DESCRIPTION:June 29\, 2022 \nPresentation starts at: 12:00 PM – 1:00 PM CST \nLocation: Architecture Center Houston \nCosts:\nAIA Member\, AIA Assoc. Member or AIAH Affiliate Member – $20.00\nNon-Member – $40.00 \nRegister
URL:https://cmcimove.com/calendar/aia-houston-texas-accessibility-plumbing-elements-and-facilities/
LOCATION:Architecture Center Houston\, 902 Commerce Street\, Houston\, 77002\, United States
END:VEVENT
BEGIN:VEVENT
DTSTART;TZID=UTC:20220624T070000
DTEND;TZID=UTC:20220624T083000
DTSTAMP:20260422T114803
CREATED:20220518T221049Z
LAST-MODIFIED:20220518T221210Z
UID:2476-1656054000-1656059400@cmcimove.com
SUMMARY:AIA Houston: Pollinator Walks
DESCRIPTION:June 24\, 2022 \n7:00 AM – 8:30 AM \nLocation: Lost Lake \nRegister
URL:https://cmcimove.com/calendar/aia-houston-pollinator-walks/
LOCATION:Lost Lake\, 3422 Allen Parkway\, Houston\, TX\, 77019\, United States
END:VEVENT
BEGIN:VEVENT
DTSTART;TZID=UTC:20220623T160000
DTEND;TZID=UTC:20220623T180000
DTSTAMP:20260422T114803
CREATED:20220518T215156Z
LAST-MODIFIED:20220518T215156Z
UID:2472-1656000000-1656007200@cmcimove.com
SUMMARY:IFMA Houston: Young Professionals Happy Hour
DESCRIPTION:June 23\, 2022 \n4:00 PM – 6:00 PM CST \nLocation : 11 Below Brewery \nMembers Only \nRegister
URL:https://cmcimove.com/calendar/ifma-houston-young-professionals-happy-hour/
LOCATION:11 Below Brewery\, 6820 Bourgeois Road\, Houston\, 77066\, United States
END:VEVENT
BEGIN:VEVENT
DTSTART;TZID=UTC:20220623T120000
DTEND;TZID=UTC:20220623T130000
DTSTAMP:20260422T114803
CREATED:20220518T205615Z
LAST-MODIFIED:20220518T214643Z
UID:2468-1655985600-1655989200@cmcimove.com
SUMMARY:AIA Houston: The Buzz About Bees
DESCRIPTION:June 23\, 2022 \n12:00 PM – 1:00 PM \nLocation : Architecture Center Houston \nCost to Attend : \nWith box lunch: $25 for non-members and $20 for AIA and BBP Members \nWithout a lunch: $10 for non-members and $5 for AIA and BBP Members \nRegister
URL:https://cmcimove.com/calendar/aia-houston-the-buzz-about-bees/
LOCATION:Architecture Center Houston\, 902 Commerce Street\, Houston\, 77002\, United States
END:VEVENT
BEGIN:VEVENT
DTSTART;TZID=UTC:20220623T073000
DTEND;TZID=UTC:20220623T093000
DTSTAMP:20260422T114803
CREATED:20220613T205342Z
LAST-MODIFIED:20220613T205342Z
UID:2502-1655969400-1655976600@cmcimove.com
SUMMARY:CREW Houston: Pics and Pitches
DESCRIPTION:June 23\, 2022 \n7:30 am – 9:30am \nLocation: Arch-Con Corporation \n  \nRegister
URL:https://cmcimove.com/calendar/crew-houston-pics-and-pitches/
LOCATION:Arc-Con Corporation\, 190 T C Jester BLVD First Floor\, Houston\, TX\, 77019\, United States
END:VEVENT
BEGIN:VEVENT
DTSTART;TZID=UTC:20220621T090000
DTEND;TZID=UTC:20220621T110000
DTSTAMP:20260422T114803
CREATED:20220607T141137Z
LAST-MODIFIED:20220607T141651Z
UID:2501-1655802000-1655809200@cmcimove.com
SUMMARY:AIA Houston: Women in Architecture 2022 Equity Series Workshop
DESCRIPTION:June 21st\, 2022 \n9 am – 11 am \nLocation:   Architecture Center Houston\n902 Commerce St.\nHouston\, TX 77002 \nCost: \n$20 AIA Members / AIAH Affiliate Members / Students \n$25 Non-Members \nRegister
URL:https://cmcimove.com/calendar/aia-houston-women-in-architecture-2022-equity-series-workshop/
LOCATION:Architecture Center Houston\, 902 Commerce Street\, Houston\, 77002\, United States
END:VEVENT
BEGIN:VEVENT
DTSTART;TZID=UTC:20220615T120000
DTEND;TZID=UTC:20220615T130000
DTSTAMP:20260422T114803
CREATED:20220518T194624Z
LAST-MODIFIED:20220518T195533Z
UID:2463-1655294400-1655298000@cmcimove.com
SUMMARY:AIA Houston: Biophilic Design
DESCRIPTION:June 15\, 2022 \n12:00 PM – 1:00 PM \nRegistration is required. Attend via Zoom. \nAIA Members pay $5 \nNon – Members pay $10 \nRegister
URL:https://cmcimove.com/calendar/aia-houston-biophilic-design/
LOCATION:TX
END:VEVENT
BEGIN:VEVENT
DTSTART;TZID=UTC:20220614T173000
DTEND;TZID=UTC:20220614T183000
DTSTAMP:20260422T114803
CREATED:20220607T140550Z
LAST-MODIFIED:20220607T140550Z
UID:2500-1655227800-1655231400@cmcimove.com
SUMMARY:AIA Houston: Christopher Kelley Leadership Development Program (CKLDP) Info Session
DESCRIPTION:June 14th\, 2022 \n5:30 pm \nLocation : Zoom \n  \nRegister
URL:https://cmcimove.com/calendar/aia-houston-christopher-kelley-leadership-development-program-ckldp-info-session-2/
LOCATION:Zoom
END:VEVENT
BEGIN:VEVENT
DTSTART;TZID=UTC:20220613T100000
DTEND;TZID=UTC:20220613T130000
DTSTAMP:20260422T114803
CREATED:20220606T221518Z
LAST-MODIFIED:20220606T221518Z
UID:2498-1655114400-1655125200@cmcimove.com
SUMMARY:AIA Houston: 2015 IBC Code Class
DESCRIPTION:June 13th\, 2022 \n10 am – 1 pm \nLocation: Microsoft Teams \n  \nRegister
URL:https://cmcimove.com/calendar/aia-houston-2015-ibc-code-class/
LOCATION:Microsoft Teams
END:VEVENT
BEGIN:VEVENT
DTSTART;TZID=UTC:20220609T163000
DTEND;TZID=UTC:20220609T183000
DTSTAMP:20260422T114803
CREATED:20220519T163508Z
LAST-MODIFIED:20220519T163508Z
UID:2488-1654792200-1654799400@cmcimove.com
SUMMARY:CREW Houston: Zoo Tour and Happy Hour Members Only
DESCRIPTION:June 9\, 2022 \n4:30 PM –  6:30 PM \nLocation: Houston Zoo \nRegister
URL:https://cmcimove.com/calendar/crew-houston-zoo-tour-and-happy-hour-members-only/
LOCATION:Houston Zoo\, 6200 Hermann Park Dr.\, Houston\, TX\, 77030\, United States
END:VEVENT
BEGIN:VEVENT
DTSTART;TZID=UTC:20220609T120000
DTEND;TZID=UTC:20220609T130000
DTSTAMP:20260422T114803
CREATED:20220428T185423Z
LAST-MODIFIED:20220503T163345Z
UID:2439-1654776000-1654779600@cmcimove.com
SUMMARY:AIA Houston: COTE Lecture Series: Forest Stewardship Council - FSC Certified Wood in Green Building
DESCRIPTION:June 9\, 2022\n12:00 PM CST – 1:00 PM \nZoom \nRegister
URL:https://cmcimove.com/calendar/aia-houston-cote-lecture-series-forest-stewardship-council-fsc-certified-wood-in-green-building/
LOCATION:TX
END:VEVENT
BEGIN:VEVENT
DTSTART;TZID=UTC:20220609T110000
DTEND;TZID=UTC:20220609T130000
DTSTAMP:20260422T114803
CREATED:20220428T185140Z
LAST-MODIFIED:20220503T163118Z
UID:2438-1654772400-1654779600@cmcimove.com
SUMMARY:IFMA Meeting: Hannah Wilner\, Corporate Training
DESCRIPTION:June 09\, 2022\n11:00 AM CST – 1:00 PM \nLocation TBD \nRegister
URL:https://cmcimove.com/calendar/ifma-meeting-hannah-wilner-corporate-training/
LOCATION:TX
END:VEVENT
BEGIN:VEVENT
DTSTART;TZID=UTC:20220608T120000
DTEND;TZID=UTC:20220608T140000
DTSTAMP:20260422T114803
CREATED:20220606T220627Z
LAST-MODIFIED:20220606T221928Z
UID:2495-1654689600-1654696800@cmcimove.com
SUMMARY:AIA Houston: Christopher Kelley Leadership Development Program (CKLDP) Info Session
DESCRIPTION:June 8th\, 2022 \n12 pm \nLocation: Zoom \nRegister
URL:https://cmcimove.com/calendar/aia-houston-christopher-kelley-leadership-development-program-ckldp-info-session/
LOCATION:Zoom
END:VEVENT
BEGIN:VEVENT
DTSTART;TZID=UTC:20220607T073000
DTEND;TZID=UTC:20220607T093000
DTSTAMP:20260422T114803
CREATED:20220606T215834Z
LAST-MODIFIED:20220606T221831Z
UID:2491-1654587000-1654594200@cmcimove.com
SUMMARY:CoreNet Houston: Emerging Leaders - Breakfast with the Board
DESCRIPTION:June  7th\, 2022 \n7:30 am – 9:30am \n  \nLocation: 5555 San Felipe St\nHouston\, TX 77056 \nRegister\n 
URL:https://cmcimove.com/calendar/emerging-leaders-breakfast-with-the-board/
LOCATION:Serendipity Labs\, Inc.\, 5555 San Felipe St\,\, Houston\, TX\, 77056\, United States
END:VEVENT
BEGIN:VEVENT
DTSTART;TZID=UTC:20220601T163000
DTEND;TZID=UTC:20220601T183000
DTSTAMP:20260422T114803
CREATED:20220519T160336Z
LAST-MODIFIED:20220519T160346Z
UID:2485-1654101000-1654108200@cmcimove.com
SUMMARY:CREW Houston: Candid Conversations
DESCRIPTION:June 1\, 2022 \n4:30 PM – 6:30 PM CST \nTicket Information: \nMembers – Only Event \n  \nRegister
URL:https://cmcimove.com/calendar/crew-houston-candid-conversations/
LOCATION:Junior League of Houston\, 1811 Briar Oak Ln\, Houston\, TX\, 77027\, United States
END:VEVENT
BEGIN:VEVENT
DTSTART;TZID=UTC:20220526T180000
DTEND;TZID=UTC:20220526T193000
DTSTAMP:20260422T114803
CREATED:20220518T203125Z
LAST-MODIFIED:20220518T205914Z
UID:2466-1653588000-1653593400@cmcimove.com
SUMMARY:CREW Houston: Nominating Committee Reception
DESCRIPTION:May 26\, 2022 \n6:00 PM – 7:30 PM \nLocated at Season’s 52 (Anyone can attend) \nRegister
URL:https://cmcimove.com/calendar/crew-houston-nominating-committee-reception/
LOCATION:Season’s 52\, 4410 Westhemier Rd C-1\, Houston\, TX\, 77027\, United States
END:VEVENT
BEGIN:VEVENT
DTSTART;TZID=UTC:20220526T173000
DTEND;TZID=UTC:20220526T173000
DTSTAMP:20260422T114803
CREATED:20220518T175645Z
LAST-MODIFIED:20220518T192111Z
UID:2459-1653586200-1653586200@cmcimove.com
SUMMARY:AIA Houston: Historic Resources Committee Happy Hour
DESCRIPTION:May 26\, 2022 \n5:30 PM CST \n  \nClick the link for more information: \nhttps://aiahouston.org/v/event-detail/Historic-Resources-Committee-Happy-Hour/20u/
URL:https://cmcimove.com/calendar/aia-houston-historic-resources-committee-happy-hour/
LOCATION:Axelrad Beer Garden 1517 Alabama Street Houston\, TX 77004\, 1517 Alabama Street\, Houston\, 77004\, United States
END:VEVENT
BEGIN:VEVENT
DTSTART;TZID=UTC:20220524T120000
DTEND;TZID=UTC:20220524T130000
DTSTAMP:20260422T114803
CREATED:20220428T173051Z
LAST-MODIFIED:20220503T162902Z
UID:2437-1653393600-1653397200@cmcimove.com
SUMMARY:AIA Houston: Lunchtime Learning (Virtual)
DESCRIPTION:May 24\, 2022\n12:00 PM CST – 1:00 PM \nZoom \nRegister
URL:https://cmcimove.com/calendar/aia-houston-lunchtime-learning-virtual/
LOCATION:TX
END:VEVENT
BEGIN:VEVENT
DTSTART;TZID=UTC:20220521T090000
DTEND;TZID=UTC:20220521T110000
DTSTAMP:20260422T114803
CREATED:20220428T172656Z
LAST-MODIFIED:20220503T162816Z
UID:2436-1653123600-1653130800@cmcimove.com
SUMMARY:AIA Houston: Buffalo Bayou Walking Tour
DESCRIPTION:May 21\, 2022\n9:00 AM CST – 11:00 AM \nArchitecture Center Houston\n902 Commerce St\nHouston\, TX 77002 \nRegister
URL:https://cmcimove.com/calendar/aia-houston-buffalo-bayou-walking-tour/
LOCATION:TX
END:VEVENT
BEGIN:VEVENT
DTSTART;TZID=UTC:20220519T180000
DTEND;TZID=UTC:20220519T193000
DTSTAMP:20260422T114803
CREATED:20220428T172444Z
LAST-MODIFIED:20220503T162720Z
UID:2434-1652983200-1652988600@cmcimove.com
SUMMARY:AIA Houston: HNOMA General Body Meeting - Save the Date
DESCRIPTION:May 19\, 2022\n6:00 PM CST – 7:30 PM \nVirtual Meeting \nRegister
URL:https://cmcimove.com/calendar/aia-houston-hnoma-general-body-meeting-save-the-date/
LOCATION:TX
END:VEVENT
BEGIN:VEVENT
DTSTART;TZID=UTC:20220518T180000
DTEND;TZID=UTC:20220518T200000
DTSTAMP:20260422T114803
CREATED:20220428T172057Z
LAST-MODIFIED:20220503T162608Z
UID:2433-1652896800-1652904000@cmcimove.com
SUMMARY:AIA Houston: The Architecture of Bees
DESCRIPTION:May 18\, 2022\n6:00 PM CST – 8:00 PM \nArchitecture Center Houston\n902 Commerce St\nHouston\, TX 77002 \nOpen reception… \nDetails
URL:https://cmcimove.com/calendar/aia-houston-the-architecture-of-bees/
LOCATION:TX
END:VEVENT
BEGIN:VEVENT
DTSTART;TZID=UTC:20220518T173000
DTEND;TZID=UTC:20220518T193000
DTSTAMP:20260422T114803
CREATED:20220428T164311Z
LAST-MODIFIED:20220503T162507Z
UID:2428-1652895000-1652902200@cmcimove.com
SUMMARY:IFMA - 2022 Fish Fry
DESCRIPTION:May 18\, 2022\n5:30 PM CST – 7:30 PM \nMcIntyre’s Heights\n1230 W 20th St.\nHouston\, TX 77008 \nRegister
URL:https://cmcimove.com/calendar/ifma-2022-fish-fry/
LOCATION:TX
END:VEVENT
BEGIN:VEVENT
DTSTART;TZID=UTC:20220514T090000
DTEND;TZID=UTC:20220514T110000
DTSTAMP:20260422T114803
CREATED:20220428T171028Z
LAST-MODIFIED:20220503T162329Z
UID:2432-1652518800-1652526000@cmcimove.com
SUMMARY:AIA Houston: Texas Medical Center Walking Tour
DESCRIPTION:May 14\, 2022\n9:00 AM CST – 11:00 AM \nJohn P. McGovern Commons Building\n6550 Bertner Ave\nHouston\, TX 77030 \nRegister
URL:https://cmcimove.com/calendar/aia-houston-texas-medical-center-walking-tour/
LOCATION:TX
END:VEVENT
BEGIN:VEVENT
DTSTART;TZID=UTC:20220511T173000
DTEND;TZID=UTC:20220511T200000
DTSTAMP:20260422T114803
CREATED:20220428T162047Z
LAST-MODIFIED:20220503T162209Z
UID:2426-1652290200-1652299200@cmcimove.com
SUMMARY:AIA Houston & CoreNet - Collaborative Networking Happy Hour
DESCRIPTION:May 11\, 2022\n5:30 PM CST – 8:00 PM \nMcIntyre’s Downtown\n901 Commerce St\nHouston\, TX 77002 \nRegister
URL:https://cmcimove.com/calendar/corenet-houston-collaborative-networking-happy-hour/
LOCATION:TX
END:VEVENT
BEGIN:VEVENT
DTSTART;TZID=UTC:20220511T110000
DTEND;TZID=UTC:20220511T130000
DTSTAMP:20260422T114803
CREATED:20220428T163543Z
LAST-MODIFIED:20220503T162053Z
UID:2427-1652266800-1652274000@cmcimove.com
SUMMARY:IFMA Meeting: Tracy Timm\, One Who Thrives
DESCRIPTION:May 11\, 2022\n11:00 AM CST – 1:00 PM \nIFMA’s Service Center of Excellence\n800 Gessner Rd.\, Ste. 900\nHouston\, TX 77351 \nRegister
URL:https://cmcimove.com/calendar/ifma-tracy-timm-one-who-thrives/
LOCATION:TX
END:VEVENT
BEGIN:VEVENT
DTSTART;TZID=UTC:20220510T073000
DTEND;TZID=UTC:20220510T090000
DTSTAMP:20260422T114803
CREATED:20220428T160239Z
LAST-MODIFIED:20220503T161407Z
UID:2425-1652167800-1652173200@cmcimove.com
SUMMARY:CoreNet: May Breakfast Meeting
DESCRIPTION:May 10\, 2022\nMay 10\, 07:30 AM CST – 09:00 AM \nJunior League of Houston\n1811 Briar Oaks Lane\nHouston\, TX 77027 \nRegister
URL:https://cmcimove.com/calendar/corenet-houston-may-breakfast-meeting/
LOCATION:TX
END:VEVENT
BEGIN:VEVENT
DTSTART;TZID=UTC:20220507T090000
DTEND;TZID=UTC:20220507T110000
DTSTAMP:20260422T114803
CREATED:20220428T165345Z
LAST-MODIFIED:20220503T161816Z
UID:2430-1651914000-1651921200@cmcimove.com
SUMMARY:AIA Houston: Montrose Walking Tour
DESCRIPTION:May 7\, 2022\n9:00 AM CST – 11:00 AM \nMenil Collection Bookstore\n1520 Sul Ross\nHouston\, TX 77006 \nReservations are required for this tour \nRegister
URL:https://cmcimove.com/calendar/aia-houston-montrose-walking-tour/
LOCATION:TX
END:VEVENT
BEGIN:VEVENT
DTSTART;TZID=UTC:20220505T180000
DTEND;TZID=UTC:20220505T200000
DTSTAMP:20260422T114803
CREATED:20220428T164735Z
LAST-MODIFIED:20220503T161059Z
UID:2429-1651773600-1651780800@cmcimove.com
SUMMARY:AIA Houston: MGMC 2022 Awards Ceremony & Reception
DESCRIPTION:May 5\, 2022\n6:00 PM CST – 8:00 PM \nArchitecture Center Houston\n902 Commerce St\nHouston\, TX 77002 \nRegister
URL:https://cmcimove.com/calendar/aia-houston-mgmc-2022-awards-ceremony-reception/
LOCATION:TX
END:VEVENT
END:VCALENDAR