BEGIN:VCALENDAR
VERSION:2.0
PRODID:-//Corporate Move Consulting Inc (CMCI) - ECPv6.15.20//NONSGML v1.0//EN
CALSCALE:GREGORIAN
METHOD:PUBLISH
X-WR-CALNAME:Corporate Move Consulting Inc (CMCI)
X-ORIGINAL-URL:https://cmcimove.com
X-WR-CALDESC:Events for Corporate Move Consulting Inc (CMCI)
REFRESH-INTERVAL;VALUE=DURATION:PT1H
X-Robots-Tag:noindex
X-PUBLISHED-TTL:PT1H
BEGIN:VTIMEZONE
TZID:UTC
BEGIN:STANDARD
TZOFFSETFROM:+0000
TZOFFSETTO:+0000
TZNAME:UTC
DTSTART:20200101T000000
END:STANDARD
END:VTIMEZONE
BEGIN:VEVENT
DTSTART;TZID=UTC:20220518T173000
DTEND;TZID=UTC:20220518T193000
DTSTAMP:20260422T133005
CREATED:20220428T164311Z
LAST-MODIFIED:20220503T162507Z
UID:2428-1652895000-1652902200@cmcimove.com
SUMMARY:IFMA - 2022 Fish Fry
DESCRIPTION:May 18\, 2022\n5:30 PM CST – 7:30 PM \nMcIntyre’s Heights\n1230 W 20th St.\nHouston\, TX 77008 \nRegister
URL:https://cmcimove.com/calendar/ifma-2022-fish-fry/
LOCATION:TX
END:VEVENT
BEGIN:VEVENT
DTSTART;TZID=UTC:20220514T090000
DTEND;TZID=UTC:20220514T110000
DTSTAMP:20260422T133005
CREATED:20220428T171028Z
LAST-MODIFIED:20220503T162329Z
UID:2432-1652518800-1652526000@cmcimove.com
SUMMARY:AIA Houston: Texas Medical Center Walking Tour
DESCRIPTION:May 14\, 2022\n9:00 AM CST – 11:00 AM \nJohn P. McGovern Commons Building\n6550 Bertner Ave\nHouston\, TX 77030 \nRegister
URL:https://cmcimove.com/calendar/aia-houston-texas-medical-center-walking-tour/
LOCATION:TX
END:VEVENT
BEGIN:VEVENT
DTSTART;TZID=UTC:20220511T173000
DTEND;TZID=UTC:20220511T200000
DTSTAMP:20260422T133005
CREATED:20220428T162047Z
LAST-MODIFIED:20220503T162209Z
UID:2426-1652290200-1652299200@cmcimove.com
SUMMARY:AIA Houston & CoreNet - Collaborative Networking Happy Hour
DESCRIPTION:May 11\, 2022\n5:30 PM CST – 8:00 PM \nMcIntyre’s Downtown\n901 Commerce St\nHouston\, TX 77002 \nRegister
URL:https://cmcimove.com/calendar/corenet-houston-collaborative-networking-happy-hour/
LOCATION:TX
END:VEVENT
BEGIN:VEVENT
DTSTART;TZID=UTC:20220511T110000
DTEND;TZID=UTC:20220511T130000
DTSTAMP:20260422T133005
CREATED:20220428T163543Z
LAST-MODIFIED:20220503T162053Z
UID:2427-1652266800-1652274000@cmcimove.com
SUMMARY:IFMA Meeting: Tracy Timm\, One Who Thrives
DESCRIPTION:May 11\, 2022\n11:00 AM CST – 1:00 PM \nIFMA’s Service Center of Excellence\n800 Gessner Rd.\, Ste. 900\nHouston\, TX 77351 \nRegister
URL:https://cmcimove.com/calendar/ifma-tracy-timm-one-who-thrives/
LOCATION:TX
END:VEVENT
BEGIN:VEVENT
DTSTART;TZID=UTC:20220510T073000
DTEND;TZID=UTC:20220510T090000
DTSTAMP:20260422T133005
CREATED:20220428T160239Z
LAST-MODIFIED:20220503T161407Z
UID:2425-1652167800-1652173200@cmcimove.com
SUMMARY:CoreNet: May Breakfast Meeting
DESCRIPTION:May 10\, 2022\nMay 10\, 07:30 AM CST – 09:00 AM \nJunior League of Houston\n1811 Briar Oaks Lane\nHouston\, TX 77027 \nRegister
URL:https://cmcimove.com/calendar/corenet-houston-may-breakfast-meeting/
LOCATION:TX
END:VEVENT
BEGIN:VEVENT
DTSTART;TZID=UTC:20220507T090000
DTEND;TZID=UTC:20220507T110000
DTSTAMP:20260422T133005
CREATED:20220428T165345Z
LAST-MODIFIED:20220503T161816Z
UID:2430-1651914000-1651921200@cmcimove.com
SUMMARY:AIA Houston: Montrose Walking Tour
DESCRIPTION:May 7\, 2022\n9:00 AM CST – 11:00 AM \nMenil Collection Bookstore\n1520 Sul Ross\nHouston\, TX 77006 \nReservations are required for this tour \nRegister
URL:https://cmcimove.com/calendar/aia-houston-montrose-walking-tour/
LOCATION:TX
END:VEVENT
BEGIN:VEVENT
DTSTART;TZID=UTC:20220505T180000
DTEND;TZID=UTC:20220505T200000
DTSTAMP:20260422T133005
CREATED:20220428T164735Z
LAST-MODIFIED:20220503T161059Z
UID:2429-1651773600-1651780800@cmcimove.com
SUMMARY:AIA Houston: MGMC 2022 Awards Ceremony & Reception
DESCRIPTION:May 5\, 2022\n6:00 PM CST – 8:00 PM \nArchitecture Center Houston\n902 Commerce St\nHouston\, TX 77002 \nRegister
URL:https://cmcimove.com/calendar/aia-houston-mgmc-2022-awards-ceremony-reception/
LOCATION:TX
END:VEVENT
BEGIN:VEVENT
DTSTART;TZID=UTC:20220310T110000
DTEND;TZID=UTC:20220310T130000
DTSTAMP:20260422T133005
CREATED:20211214T180112Z
LAST-MODIFIED:20211214T180112Z
UID:2410-1646910000-1646917200@cmcimove.com
SUMMARY:IFMA MARCH MEETING & HUG-A-BEAR
DESCRIPTION:March 10\, 2022\n11:00 AM CST – 1:00 PM \nMcCoy Rockford Showroom\n6869 Old Katy Road\nHouston\, TX 77024 \nRegister here
URL:https://cmcimove.com/calendar/ifma-march-meeting-hug-a-bear/
LOCATION:TX
END:VEVENT
BEGIN:VEVENT
DTSTART;TZID=UTC:20220208T110000
DTEND;TZID=UTC:20220208T130000
DTSTAMP:20260422T133005
CREATED:20211214T172432Z
LAST-MODIFIED:20211214T172432Z
UID:2409-1644318000-1644325200@cmcimove.com
SUMMARY:IFMA Joint Luncheon with CoreNet
DESCRIPTION:February 08\, 2022\n11:00 AM CST – 1:00 PM \n\n\n\nJunior League of Houston\n1811 Briar Oaks Lane\nHouston\, TX 77027
URL:https://cmcimove.com/calendar/ifma-joint-luncheon-with-corenet/
LOCATION:TX
END:VEVENT
BEGIN:VEVENT
DTSTART;TZID=UTC:20220113T110000
DTEND;TZID=UTC:20220113T130000
DTSTAMP:20260422T133005
CREATED:20211214T164921Z
LAST-MODIFIED:20211214T164921Z
UID:2408-1642071600-1642078800@cmcimove.com
SUMMARY:IFMA Meeting: LAURA CONELY\, FOUNDER URBANPATHS
DESCRIPTION:January 13\, 2022\n11:00 AM CST – 1:00 PM \nGensler\n2 Houston Center\, 909 Fannin Street\, Suite 200\nHouston\, TX 77010 \nSYNOPSIS:\nWalk into the New Year fueled by new positive health habits. Learn the profound benefits of walking and straightforward strategies to add gratitude and mindfulness practices on your very next walk. \nRegister here
URL:https://cmcimove.com/calendar/ifma-meeting-laura-conely-founder-urbanpaths/
LOCATION:TX
END:VEVENT
BEGIN:VEVENT
DTSTART;TZID=UTC:20220111T110000
DTEND;TZID=UTC:20220111T133000
DTSTAMP:20260422T133005
CREATED:20211214T160537Z
LAST-MODIFIED:20211214T160537Z
UID:2406-1641898800-1641907800@cmcimove.com
SUMMARY:CoreNet 2022 Annual Awards Luncheon
DESCRIPTION:CoreNet’s Annual Awards and Market Overview \nDiscussion of the US\, Texas\, and Houston economies and the Houston Commercial Real Estate Markets. Where are we? Where are we going? \nJan 11\, 2022 from 11:00 AM to 01:30 PM \n1811 Briar Oaks Lane\nHouston\, TX 77027 \nRegister here
URL:https://cmcimove.com/calendar/corenet-2022-annual-awards-luncheon/
LOCATION:TX
END:VEVENT
BEGIN:VEVENT
DTSTART;TZID=UTC:20211217T080000
DTEND;TZID=UTC:20211217T130000
DTSTAMP:20260422T133005
CREATED:20211214T162540Z
LAST-MODIFIED:20211214T162540Z
UID:2407-1639728000-1639746000@cmcimove.com
SUMMARY:IFMA CARES: VOLUNTEER OPPORTUNITY WITH COMBINED ARMS
DESCRIPTION:December 17\, 2021\n8:00 AM CST – 1:00 PM \nCombined Arms Veterans Transition Center\n2929 McKinney Street\nHouston\, TX 77003 \nRegister here \n 
URL:https://cmcimove.com/calendar/ifma-cares-volunteer-opportunity-with-combined-arms/
LOCATION:TX
END:VEVENT
BEGIN:VEVENT
DTSTART;TZID=UTC:20211209T110000
DTEND;TZID=UTC:20211209T130000
DTSTAMP:20260422T133005
CREATED:20211011T152753Z
LAST-MODIFIED:20211011T152753Z
UID:2381-1639047600-1639054800@cmcimove.com
SUMMARY:IFMA Holiday Social & Silent Auction
DESCRIPTION:IFMA Holiday Social & Silent Auction \nDecember 09\, 2021\n11:00 AM CST – 1:00 PM \nBriar Club\n2603 Timmons Lane\nHouston\, TX 77027 \nRegister here
URL:https://cmcimove.com/calendar/ifma-holiday-social-silent-auction/
LOCATION:TX
END:VEVENT
BEGIN:VEVENT
DTSTART;TZID=UTC:20211207T080000
DTEND;TZID=UTC:20211207T090000
DTSTAMP:20260422T133005
CREATED:20211011T155913Z
LAST-MODIFIED:20211011T155913Z
UID:2384-1638864000-1638867600@cmcimove.com
SUMMARY:CoreNet December Coffee Chat with Turner Construction
DESCRIPTION:  \n  \n  \n  \n  \n  \n  \n  \n  \n  \nDec 7\, 2021 from 08:00 AM to 09:00 AM \nVirtual \nRegister here
URL:https://cmcimove.com/calendar/corenet-december-coffee-chat-with-turner-construction/
LOCATION:TX
END:VEVENT
BEGIN:VEVENT
DTSTART;TZID=UTC:20211201T173000
DTEND;TZID=UTC:20211201T203000
DTSTAMP:20260422T133005
CREATED:20211101T160027Z
LAST-MODIFIED:20211101T160027Z
UID:2391-1638379800-1638390600@cmcimove.com
SUMMARY:CoreNet Holiday Party
DESCRIPTION:  \n  \n  \n  \n  \n  \n  \n  \nDec 1\, 2021 from 05:30 PM to 08:30 PM \nBackstreet Cafe – 1103 S. Shepherd Dr. Houston\, TX 77019 \nCome and experience all that Hugo Ortega has to offer at this unparalleled celebration! \nRegister here
URL:https://cmcimove.com/calendar/corenet-holiday-party/
LOCATION:TX
END:VEVENT
BEGIN:VEVENT
DTSTART;TZID=UTC:20211116T180000
DTEND;TZID=UTC:20211116T200000
DTSTAMP:20260422T133005
CREATED:20211101T163655Z
LAST-MODIFIED:20211101T163722Z
UID:2393-1637085600-1637092800@cmcimove.com
SUMMARY:IFMA CRM Study Group
DESCRIPTION:November 16\, 2021 6pm – 8pm \nUniversity of St. Thomas\, Center for Science & Health Professions Building \nRoom 102A \nRegister here \nEnd 2021 by getting on the path to achieving this major milestone! Study alongside fellow and like-minded FM’s that are working towards the same goal. CFM’s will be present\, sharing their experience on how they overcame the exam! \nThis is a free study group session intended to help remove any obstacles from your path to FM Glory! \nAGENDA:\n6:00 PM to 6:30 PM: Pizza & Networking\n6:30 PM to 6:45 PM: Introduction to CFM Study Group\n6:45 PM to 8:00 PM: Hit the Books \nDIRECTIONS:\nThe Center for Science & Health Professions Building is #23 on the below image. There is limited parking available in lot P on the map. Street parking is available\, as well. Once inside the building\, signs will be posted to find Room 102A.
URL:https://cmcimove.com/calendar/ifma-crm-study-group/
LOCATION:TX
END:VEVENT
BEGIN:VEVENT
DTSTART;TZID=UTC:20211115T080000
DTEND;TZID=UTC:20211115T140000
DTSTAMP:20260422T133005
CREATED:20210903T153345Z
LAST-MODIFIED:20210903T153345Z
UID:2369-1636963200-1636984800@cmcimove.com
SUMMARY:CoreNet Annual Golf Tournament
DESCRIPTION:Nov 15\, 2021 from 08:00:00 AM to 02:00:00 PM (CT) \n5860 Wilson Road\nHumble\, TX 77396 \nRegister here
URL:https://cmcimove.com/calendar/corenet-annual-golf-tournament/
LOCATION:TX
END:VEVENT
BEGIN:VEVENT
DTSTART;TZID=UTC:20211111T110000
DTEND;TZID=UTC:20211111T130000
DTSTAMP:20260422T133005
CREATED:20210903T154438Z
LAST-MODIFIED:20210903T154438Z
UID:2370-1636628400-1636635600@cmcimove.com
SUMMARY:IFMA Event: ANNETTE MONKS\, CARLTON STAFFING
DESCRIPTION:“JEDI MIND TRICKS FOR WORK AND HOME”\n \nSpeaker: Annette Monks\, President\, Carlton Staffing \nNovember 11\, 2021\n11:00 AM CST – 1:00 PM CST \n800 Gessner Rd.\, Ste. 900\nHouston\, TX 77351 \nRegister here
URL:https://cmcimove.com/calendar/ifma-event-annette-monks-carlton-staffing-2/
LOCATION:TX
END:VEVENT
BEGIN:VEVENT
DTSTART;TZID=UTC:20211104T170000
DTEND;TZID=UTC:20211104T190000
DTSTAMP:20260422T133005
CREATED:20211011T151711Z
LAST-MODIFIED:20211011T151711Z
UID:2380-1636045200-1636052400@cmcimove.com
SUMMARY:IFMA SNEAK PEEK BUILDING TOUR OF THE ION
DESCRIPTION:November 04\, 2021\n5:00 PM CDT – 7:00 PM \nThe Ion\n4201 Main Street\nHouston\, TX 77002 \n \nThe Ion will host a limited number of tours of our 266\,000-square foot building designed to bring Houston’s entrepreneurial\, corporate\, investors and academic communities together through collaborative spaces and programs. \nRegister here
URL:https://cmcimove.com/calendar/ifma-sneak-peek-building-tour-of-the-ion/
LOCATION:TX
END:VEVENT
BEGIN:VEVENT
DTSTART;TZID=UTC:20211028T163000
DTEND;TZID=UTC:20211028T190000
DTSTAMP:20260422T133005
CREATED:20211011T155427Z
LAST-MODIFIED:20211011T155427Z
UID:2383-1635438600-1635447600@cmcimove.com
SUMMARY:CoreNet Emerging Leaders 2021 Annual Speed Mentoring
DESCRIPTION:Oct 28\, 2021 from 04:30 PM to 07:00 PM \nMiss Carousel \n1201 St Emanuel St\nHouston\, TX 77003 \nRegister here
URL:https://cmcimove.com/calendar/corenet-emerging-leaders-2021-annual-speed-mentoring/
LOCATION:TX
END:VEVENT
BEGIN:VEVENT
DTSTART;TZID=UTC:20211026T080000
DTEND;TZID=UTC:20211028T170000
DTSTAMP:20260422T133005
CREATED:20210802T145414Z
LAST-MODIFIED:20210802T145414Z
UID:2354-1635235200-1635440400@cmcimove.com
SUMMARY:IFMA World Workplace 2021
DESCRIPTION:More information here
URL:https://cmcimove.com/calendar/ifma-world-workplace-2021/
LOCATION:TX
END:VEVENT
BEGIN:VEVENT
DTSTART;TZID=UTC:20211026T080000
DTEND;TZID=UTC:20211026T090000
DTSTAMP:20260422T133005
CREATED:20211011T154716Z
LAST-MODIFIED:20211011T154716Z
UID:2382-1635235200-1635238800@cmcimove.com
SUMMARY:CoreNet Coffee Chat
DESCRIPTION:CoreNet Coffee Chat \nOct 26\, 2021 from 08:00 AM to 09:00 AM \nVirtual \nRegister here
URL:https://cmcimove.com/calendar/corenet-coffee-chat/
LOCATION:TX
END:VEVENT
BEGIN:VEVENT
DTSTART;TZID=UTC:20211014T173000
DTEND;TZID=UTC:20211014T193000
DTSTAMP:20260422T133005
CREATED:20211011T150751Z
LAST-MODIFIED:20211011T150751Z
UID:2379-1634232600-1634239800@cmcimove.com
SUMMARY:IFMA Oktoberfest & WWP2021 Kickoff
DESCRIPTION:CELEBRATE OKTOBERFEST & KICKOFF WWP2021 WITH IFMA HOUSTON!\n \nOctober 14\, 2021\n5:30 PM CDT – 7:30 PM \nKirby Ice House – Memorial\n1015 Gessner Road\nHouston\, TX 77055 \nRegister here
URL:https://cmcimove.com/calendar/ifma-oktoberfest-wwp2021-kickoff/
LOCATION:TX
END:VEVENT
BEGIN:VEVENT
DTSTART;TZID=UTC:20211012T073000
DTEND;TZID=UTC:20211012T090000
DTSTAMP:20260422T133005
CREATED:20210903T152825Z
LAST-MODIFIED:20210903T153418Z
UID:2368-1634023800-1634029200@cmcimove.com
SUMMARY:CoreNet October Breakfast Program
DESCRIPTION:  \n  \n  \n  \n  \n  \n  \n  \n  \n  \n  \nTuesday\, October 12\, 2021 \n7:30:00 AM to 9:00:00 AM (CT) \nRegister here
URL:https://cmcimove.com/calendar/october-breakfast-program/
LOCATION:TX
END:VEVENT
BEGIN:VEVENT
DTSTART;TZID=UTC:20210928T080000
DTEND;TZID=UTC:20210928T090000
DTSTAMP:20260422T133005
CREATED:20210714T151803Z
LAST-MODIFIED:20210714T151803Z
UID:2346-1632816000-1632819600@cmcimove.com
SUMMARY:CoreNet Meeting: September Coffee Chat
DESCRIPTION:September Coffee Chat\n\n\nDate: Tuesday\, September 28\, 2021\, 8:00 AM to 9:00 AM\n\n\nVenue: Virtual\nREGISTER HERE 
URL:https://cmcimove.com/calendar/corenet-meeting-september-coffee-chat/
LOCATION:TX
END:VEVENT
BEGIN:VEVENT
DTSTART;TZID=UTC:20210914T073000
DTEND;TZID=UTC:20210914T090000
DTSTAMP:20260422T133005
CREATED:20210714T150938Z
LAST-MODIFIED:20210714T151854Z
UID:2345-1631604600-1631610000@cmcimove.com
SUMMARY:CoreNet Meeting: September Breakfast Meeting
DESCRIPTION:September Breakfast Meeting\n\nDate: Tuesday\, September 14\, 2021\, 7:30 AM to 9:00 AM\n\n\nVenue: The Junior League\, 1811 Briar Oaks Lane\, Houston\, TX 77027\n\nREGISTER HERE
URL:https://cmcimove.com/calendar/corenet-meeting-september-breakfast-meeting/
LOCATION:TX
END:VEVENT
BEGIN:VEVENT
DTSTART;TZID=UTC:20210909T103000
DTEND;TZID=UTC:20210909T120000
DTSTAMP:20260422T133005
CREATED:20210714T143932Z
LAST-MODIFIED:20210714T143932Z
UID:2341-1631183400-1631188800@cmcimove.com
SUMMARY:IFMA Meeting: JULIE KINZELMAN\, KINZELMAN ART CONSULTING
DESCRIPTION:JULIE KINZELMAN\nPRINCIPAL PROJECT MANAGER\nSeptember 09\, 2021\n10:30 AM CDT – 12:00 PM \nZoom \n \nJulie Kinzelman established Kinzelman Art Consulting in 2001 recognizing the need to provide comprehensive art management services to a growing clientele in the state of Texas. Prior to establishing her company\, Julie was a Partner at an art advisory firm where she managed two offices and multiple large-scale corporate art collections for six years. Julie has extensive experience in amassing and managing art collections\, site-specific commissions and is deeply enmeshed in the art market. Throughout her 25 year career\, Julie has been responsible for managing collections for private collectors and Fortune 100 and SOO companies. Julie has lectured about such topics as the value of art within public spaces\, diversi9ing an arts practice\, the health of the contemporary art market and the history of art consulting. Julie has served as the president of the board of directors of Glasstire\, an online magazine covering visual arts in Texas and California and has also served on the board of directors for The American Institute of Architects (AA). She has served as Vice President of the board of directors for the Houston Center for Photography and as the Regional Chair of ArtTable Inc.\, a national organization for women leaders in the visual arts. Julie completed the Certificate Program in Appraisal Studies at the Rhode Island School of Design (RISC)) and a Member of the American Society of Appraisers (ASA) since 2009. \n  \n\nVIRTUAL MEETING AGENDA:\n10:30 AM – 10:50 AM Virtual Networking in Breakout Rooms \n10:50 AM – 11:00 AM Chapter Announcements / Speaker Introduction \n11:00 AM – 11:50 AM Speaker Presentation \n11:50 AM – 12:00 PM Q&A / Meeting Close Out \nREGISTER HERE
URL:https://cmcimove.com/calendar/ifma-meeting-julie-kinzelman-kinzelman-art-consulting/
LOCATION:TX
END:VEVENT
BEGIN:VEVENT
DTSTART;TZID=UTC:20210825T170000
DTEND;TZID=UTC:20210825T190000
DTSTAMP:20260422T133005
CREATED:20210802T150506Z
LAST-MODIFIED:20210802T150506Z
UID:2356-1629910800-1629918000@cmcimove.com
SUMMARY:CoreNet Emerging Leaders Happy Hour @Cidercade
DESCRIPTION:Date: Wednesday\, August 25\, 2021\, 5pm – 7pm\nVenue: Cidercade Houston\nRegister here
URL:https://cmcimove.com/calendar/corenet-emerging-leaders-happy-hour-cidercade/
LOCATION:TX
END:VEVENT
BEGIN:VEVENT
DTSTART;TZID=UTC:20210824T080000
DTEND;TZID=UTC:20210824T090000
DTSTAMP:20260422T133005
CREATED:20210802T150209Z
LAST-MODIFIED:20210802T150229Z
UID:2355-1629792000-1629795600@cmcimove.com
SUMMARY:CoreNet Virtual Coffee Chat
DESCRIPTION:Date: Tuesday\, August 24\, 2021\, 8am-9am\n\n\nVenue: Virtual\nRegister here
URL:https://cmcimove.com/calendar/corenet-virtual-coffee-chat/
LOCATION:TX
END:VEVENT
BEGIN:VEVENT
DTSTART;TZID=UTC:20210812T110000
DTEND;TZID=UTC:20210812T130000
DTSTAMP:20260422T133005
CREATED:20210714T143415Z
LAST-MODIFIED:20210714T143415Z
UID:2340-1628766000-1628773200@cmcimove.com
SUMMARY:IFMA Event: ANNETTE MONKS\, CARLTON STAFFING
DESCRIPTION:“JEDI MIND TRICKS FOR WORK AND HOME”\nAugust 12\, 2021\n11:00 AM CDT – 1:00 PM CDT \nIFMA’s Service Center of Excellence\n800 Gessner Rd.\, Ste. 900\nHouston\, TX 77351 \nPRESENTATION SYNOPSIS:\nHave you ever started a conversation with someone that went downhill quickly and you didn’t know why it happened or how to get it back on track? What about dealing with an angry client who cannot seem to be satisfied? Or how about that coworker that keeps saying “It’s fine” when we know it’s NOT! \nDuring this interactive session\, we will introduce a human behavior theory that can be used to establish better outcomes from challenging conversations. You will learn: \n\nWhat emotional ego states you will encounter in discussions\,\nHow to identify the ego states in yourself and the other party\,\nHow to neutralize conflict and confrontation during the conversation\,\n\nImplementing what you learn during our session will lead to more productive\, less emotional conversations in the workplace and beyond. \nREGISTER HERE
URL:https://cmcimove.com/calendar/ifma-event-annette-monks-carlton-staffing/
LOCATION:TX
END:VEVENT
END:VCALENDAR