BEGIN:VCALENDAR
VERSION:2.0
PRODID:-//Corporate Move Consulting Inc (CMCI) - ECPv6.15.20//NONSGML v1.0//EN
CALSCALE:GREGORIAN
METHOD:PUBLISH
X-WR-CALNAME:Corporate Move Consulting Inc (CMCI)
X-ORIGINAL-URL:https://cmcimove.com
X-WR-CALDESC:Events for Corporate Move Consulting Inc (CMCI)
REFRESH-INTERVAL;VALUE=DURATION:PT1H
X-Robots-Tag:noindex
X-PUBLISHED-TTL:PT1H
BEGIN:VTIMEZONE
TZID:UTC
BEGIN:STANDARD
TZOFFSETFROM:+0000
TZOFFSETTO:+0000
TZNAME:UTC
DTSTART:20250101T000000
END:STANDARD
END:VTIMEZONE
BEGIN:VEVENT
DTSTART;TZID=UTC:20260420T090000
DTEND;TZID=UTC:20260420T150000
DTSTAMP:20260422T083704
CREATED:20260309T162953Z
LAST-MODIFIED:20260309T162953Z
UID:3415-1776675600-1776697200@cmcimove.com
SUMMARY:IFMA - Golf Tournament
DESCRIPTION:
URL:https://cmcimove.com/calendar/ifma-golf-tournament/
LOCATION:Sweetwater Golf Club\, 4400 Palm Royale Blvd\, Sugar Land\, TX\, 77479\, United States
END:VEVENT
END:VCALENDAR